BEGIN:VCALENDAR
VERSION:2.0
PRODID:-//Woodstock VT - ECPv6.15.20//NONSGML v1.0//EN
CALSCALE:GREGORIAN
METHOD:PUBLISH
X-WR-CALNAME:Woodstock VT
X-ORIGINAL-URL:https://www.woodstockvt.com
X-WR-CALDESC:Events for Woodstock VT
REFRESH-INTERVAL;VALUE=DURATION:PT1H
X-Robots-Tag:noindex
X-PUBLISHED-TTL:PT1H
BEGIN:VTIMEZONE
TZID:America/New_York
BEGIN:DAYLIGHT
TZOFFSETFROM:-0500
TZOFFSETTO:-0400
TZNAME:EDT
DTSTART:20250309T070000
END:DAYLIGHT
BEGIN:STANDARD
TZOFFSETFROM:-0400
TZOFFSETTO:-0500
TZNAME:EST
DTSTART:20251102T060000
END:STANDARD
BEGIN:DAYLIGHT
TZOFFSETFROM:-0500
TZOFFSETTO:-0400
TZNAME:EDT
DTSTART:20260308T070000
END:DAYLIGHT
BEGIN:STANDARD
TZOFFSETFROM:-0400
TZOFFSETTO:-0500
TZNAME:EST
DTSTART:20261101T060000
END:STANDARD
BEGIN:DAYLIGHT
TZOFFSETFROM:-0500
TZOFFSETTO:-0400
TZNAME:EDT
DTSTART:20270314T070000
END:DAYLIGHT
BEGIN:STANDARD
TZOFFSETFROM:-0400
TZOFFSETTO:-0500
TZNAME:EST
DTSTART:20271107T060000
END:STANDARD
END:VTIMEZONE
BEGIN:VEVENT
DTSTART;TZID=America/New_York:20260228T090000
DTEND;TZID=America/New_York:20260228T170000
DTSTAMP:20260425T065218
CREATED:20251215T143301Z
LAST-MODIFIED:20251215T143413Z
UID:10003796-1772269200-1772298000@www.woodstockvt.com
SUMMARY:Widestock - Fat Bike Festival
DESCRIPTION:Join Mountain Bike Vermont and Woodstock Area MTB Association (WAMBA) for our second annual fatbike fest in Woodstock\, Vermont!\n\n\n\nPresented by the Woodstock Area Mountain Bike Association\, von Trapp Brewing\, Ranch Camp\, and Mountain Bike Vermont\, we’re proud to bring you Woodstock’s second annual fatbike festival! \nJoin us Saturday\, February 28th\, 2026 for a day of fatbiking\, feasting\, and hearty brews around warm fires.
URL:https://www.woodstockvt.com/event/widestock-fat-bike-festival/
LOCATION:VT
CATEGORIES:Seasonal Events & Holidays,Sporting Events
ATTACH;FMTTYPE=image/jpeg:https://www.woodstockvt.com/wp-content/uploads/2025/12/Widestock-96-scaled.jpg
ORGANIZER;CN="WAMBA":MAILTO:info@mtbwoodstock.com
END:VEVENT
BEGIN:VEVENT
DTSTART;TZID=America/New_York:20260228T103000
DTEND;TZID=America/New_York:20260228T113000
DTSTAMP:20260425T065218
CREATED:20260108T133310Z
LAST-MODIFIED:20260109T171333Z
UID:10003827-1772274600-1772278200@www.woodstockvt.com
SUMMARY:Family Story Time at NWPL
DESCRIPTION:Grandparents\, parents\, and caregivers are invited to bring their young charges to enjoy stories. We’ll select picture books about the season\, or a theme\, or perhaps feature new additions to our collection. \n\n\n\nEveryone is welcome. Discover new picture books or savor old favorites with the younger family members. \n\n\n\nOn the second Saturday of each month\, Family Story Time features community elders as guest readers. If you interested in reading to young listeners\, please contact the Children’s Librarians: 802.457.2295 x 102\, email Children@NormanWilliams.org\, or stop by to find out how to join the roster.
URL:https://www.woodstockvt.com/event/family-story-time-at-nwpl/2026-02-28/
LOCATION:Norman Williams Public Library\, 10 The Green\, Woodstock\, VT\, 05091\, United States
CATEGORIES:Family and Kids
ATTACH;FMTTYPE=image/jpeg:https://www.woodstockvt.com/wp-content/uploads/2026/01/NWPL-magic-tree-hollow-kids-scaled.jpg
ORGANIZER;CN="Norman Williams Public Library":MAILTO:info@normanwilliams.org
END:VEVENT
BEGIN:VEVENT
DTSTART;TZID=America/New_York:20260228T120000
DTEND;TZID=America/New_York:20260228T150000
DTSTAMP:20260425T065218
CREATED:20251022T144445Z
LAST-MODIFIED:20251119T153552Z
UID:10003133-1772280000-1772290800@www.woodstockvt.com
SUMMARY:Make Crêpes and More — Cooking Class!
DESCRIPTION:
URL:https://www.woodstockvt.com/event/make-crepes-and-more-cooking-class/2026-02-28/
LOCATION:VT
ATTACH;FMTTYPE=image/jpeg:https://www.woodstockvt.com/wp-content/uploads/2025/10/IMG_7703-scaled.jpeg
ORGANIZER;CN="Odyssey Events":MAILTO:info@odysseyeventsvt.com
END:VEVENT
BEGIN:VEVENT
DTSTART;TZID=America/New_York:20260228T150000
DTEND;TZID=America/New_York:20260228T170000
DTSTAMP:20260425T065218
CREATED:20260217T161959Z
LAST-MODIFIED:20260217T162003Z
UID:10003949-1772290800-1772298000@www.woodstockvt.com
SUMMARY:Woodstock Vermont Film Series Screening of "Folktales"
DESCRIPTION:From Oscar®-nominated filmmakers Heidi Ewing and Rachel Grady\, Folktales is a life-affirming journey to Arctic Norway\, where teenagers spend a transformative “gap year” at Pasvik Folk High School. Relying on one another and a loyal pack of Siberian huskies\, they learn to dog sled\, navigate the wilderness\, and discover new strength and purpose. \n\n\n\nInspired by the Norse myth of the Norns\, deities who wove the threads of fate and shaped humans’ futures\, Pasvik Folk High School aims to create similar life-changing experiences for its students. Through intimate storytelling and exhilarating cinematography\, Folktales captures young people on the cusp of adulthood\, finding themselves at the edge of the world.
URL:https://www.woodstockvt.com/event/woodstock-vermont-film-series-screening-of-folktales/2026-02-28/
LOCATION:Billings Farm & Museum\, 69 Old River Road\, Woodstock\, Vermont\, 05091
CATEGORIES:Arts, Film & Culture
ATTACH;FMTTYPE=image/jpeg:https://www.woodstockvt.com/wp-content/uploads/2026/02/website-1-copy.jpg
ORGANIZER;CN="Billings Farm & Museum":MAILTO:info@billingsfarm.org
END:VEVENT
BEGIN:VEVENT
DTSTART;TZID=America/New_York:20260228T180000
DTEND;TZID=America/New_York:20260228T210000
DTSTAMP:20260425T065218
CREATED:20251023T200206Z
LAST-MODIFIED:20251119T153613Z
UID:10003194-1772301600-1772312400@www.woodstockvt.com
SUMMARY:Rid Your Pasta Performance Complex\, Cooking Class
DESCRIPTION:Have a cooking pasta party! You’ll have fun and learn to cook at our mountain-top idyll.  \nChef Ted can teach almost anything culinary\, and at this hands-on event you’ll make a fresh tomato sauce\, learn how to roll out ravioli\, fashion tortellini\, and make a perfect fettuccine Alfredo.  \nYou’re sure to fall in love with this culinary art form learned near Bologna\, Italy’s heart of fresh pasta. \nHere we use mostly organic and regional ingredients that come mainly from nearby Vermont farms.  \nTailored to your level of expertise this is an opportunity to fine-tune your culinary skills with a personalized experience and education—so roll up your sleeves and come sizzle with us on this Vermont food odyssey. \nBYOB and EAT WHAT YOU MAKE! \nContact us if our scheduled classes don’t fit your schedule. This lesson generally repeats on Saturdays at dinnertime. Contact us for a noon event or for your alternative date and time. \nA two-person minimum is preferred\, but contact us as we may have other singles on a waitlist. \nYou can learn what you like when you like. Check our website OdysseyEventsVT for more lesson ideas. \nCooking classes for almost anything at any time. \nCall or email us  802-342-1513 / info@odysseyeventsvt.com \n 
URL:https://www.woodstockvt.com/event/rid-your-pasta-performance-complex-cooking-class/2026-02-28/
LOCATION:Bridgewater Corners\, Bridgewater Corners\, Bridgewater Corners\, VT\, 05035\, United States
CATEGORIES:Food Events
ATTACH;FMTTYPE=image/jpeg:https://www.woodstockvt.com/wp-content/uploads/2024/11/IMG_7713-scaled.jpeg
ORGANIZER;CN="Odyssey Events":MAILTO:info@odysseyeventsvt.com
END:VEVENT
BEGIN:VEVENT
DTSTART;TZID=America/New_York:20260228T190000
DTEND;TZID=America/New_York:20260228T210000
DTSTAMP:20260425T065218
CREATED:20260218T162929Z
LAST-MODIFIED:20260218T163003Z
UID:10003966-1772305200-1772312400@www.woodstockvt.com
SUMMARY:The Vermont Mandolin Trio
DESCRIPTION:Listen to three of Vermont’s finest mandolinists for a rare evening of bluegrass\, jazz and roots music in the unique (and very happy sounding) setting of three mandolins.\nThe trio of Jamie Masefield\, Will Patton and Matt Flinner brings together three of Vermont’s finest mandolinists for a rare evening of bluegrass\, jazz and roots music in the unique (and very happy sounding) setting of three mandolins. Joined by journeyman bassist Pat Melvin\, the group performs music of Bill Monroe\, Django Reinhardt\, J.S. Bach and everything in between\, all with the flair of virtuosity and originality.
URL:https://www.woodstockvt.com/event/the-vermont-mandolin-trio/
LOCATION:Artistree Community Arts Center\, 2095 Pomfret Road\, South Pomfret\, VT\, 05067\, United States
CATEGORIES:Arts, Film & Culture,Live Music & Concerts
ATTACH;FMTTYPE=image/jpeg:https://www.woodstockvt.com/wp-content/uploads/2026/02/Vermont-Mandolin-Trio-scaled.jpg
ORGANIZER;CN="ArtisTree Community Arts Center":MAILTO:info@artistreevt.org
END:VEVENT
END:VCALENDAR