BEGIN:VCALENDAR
VERSION:2.0
PRODID:-//Woodstock VT - ECPv6.15.20//NONSGML v1.0//EN
CALSCALE:GREGORIAN
METHOD:PUBLISH
X-WR-CALNAME:Woodstock VT
X-ORIGINAL-URL:https://www.woodstockvt.com
X-WR-CALDESC:Events for Woodstock VT
REFRESH-INTERVAL;VALUE=DURATION:PT1H
X-Robots-Tag:noindex
X-PUBLISHED-TTL:PT1H
BEGIN:VTIMEZONE
TZID:America/New_York
BEGIN:DAYLIGHT
TZOFFSETFROM:-0500
TZOFFSETTO:-0400
TZNAME:EDT
DTSTART:20250309T070000
END:DAYLIGHT
BEGIN:STANDARD
TZOFFSETFROM:-0400
TZOFFSETTO:-0500
TZNAME:EST
DTSTART:20251102T060000
END:STANDARD
BEGIN:DAYLIGHT
TZOFFSETFROM:-0500
TZOFFSETTO:-0400
TZNAME:EDT
DTSTART:20260308T070000
END:DAYLIGHT
BEGIN:STANDARD
TZOFFSETFROM:-0400
TZOFFSETTO:-0500
TZNAME:EST
DTSTART:20261101T060000
END:STANDARD
BEGIN:DAYLIGHT
TZOFFSETFROM:-0500
TZOFFSETTO:-0400
TZNAME:EDT
DTSTART:20270314T070000
END:DAYLIGHT
BEGIN:STANDARD
TZOFFSETFROM:-0400
TZOFFSETTO:-0500
TZNAME:EST
DTSTART:20271107T060000
END:STANDARD
END:VTIMEZONE
BEGIN:VEVENT
DTSTART;TZID=America/New_York:20260305T173000
DTEND;TZID=America/New_York:20260305T210000
DTSTAMP:20260425T065156
CREATED:20260116T130942Z
LAST-MODIFIED:20260116T131030Z
UID:10003891-1772731800-1772744400@www.woodstockvt.com
SUMMARY:Rumney Sessions at Fable Farm
DESCRIPTION:Much like Feast & Field\, these Thursday evenings bring together farm food\, art\, and community—but in a smaller\, cozier setting. Tucked inside a 250-year-old barn\, these gatherings offer a warm and welcoming space for all ages. \n\n\n\nJust like the orchard where Feast & Field is held\, the barn is family-friendly\, perfect for children and adults alike. As the seasons shift\, so do our events—downsized to reflect the rhythm of autumn\, but still full of life\, flavor\, and connection. \n\n\n\nWe serve up artisanal pizzas every week\, along with a rotating menu of fresh\, farm-grown dishes. New this year: enjoy handcrafted Fable cocktails\, made with ingredients from our farm—everything but the distilled spirit. \n\n\n\nSee the full musician lineup here.
URL:https://www.woodstockvt.com/event/rumney-sessions-at-fable-farm/2026-03-05/
LOCATION:Fable Farm\, 1525 Royalton Turnpike\, South Royalton\, Vermont\, 05091
CATEGORIES:Family and Kids,Live Music & Concerts
ATTACH;FMTTYPE=image/jpeg:https://www.woodstockvt.com/wp-content/uploads/2026/01/Fable-Farm-29.jpg
ORGANIZER;CN="Feast and Field at Fable Farm":MAILTO:fablefarm@gmail.com
END:VEVENT
END:VCALENDAR