BEGIN:VCALENDAR
VERSION:2.0
PRODID:-//Woodstock VT - ECPv6.15.20//NONSGML v1.0//EN
CALSCALE:GREGORIAN
METHOD:PUBLISH
X-WR-CALNAME:Woodstock VT
X-ORIGINAL-URL:https://www.woodstockvt.com
X-WR-CALDESC:Events for Woodstock VT
REFRESH-INTERVAL;VALUE=DURATION:PT1H
X-Robots-Tag:noindex
X-PUBLISHED-TTL:PT1H
BEGIN:VTIMEZONE
TZID:America/New_York
BEGIN:DAYLIGHT
TZOFFSETFROM:-0500
TZOFFSETTO:-0400
TZNAME:EDT
DTSTART:20250309T070000
END:DAYLIGHT
BEGIN:STANDARD
TZOFFSETFROM:-0400
TZOFFSETTO:-0500
TZNAME:EST
DTSTART:20251102T060000
END:STANDARD
BEGIN:DAYLIGHT
TZOFFSETFROM:-0500
TZOFFSETTO:-0400
TZNAME:EDT
DTSTART:20260308T070000
END:DAYLIGHT
BEGIN:STANDARD
TZOFFSETFROM:-0400
TZOFFSETTO:-0500
TZNAME:EST
DTSTART:20261101T060000
END:STANDARD
BEGIN:DAYLIGHT
TZOFFSETFROM:-0500
TZOFFSETTO:-0400
TZNAME:EDT
DTSTART:20270314T070000
END:DAYLIGHT
BEGIN:STANDARD
TZOFFSETFROM:-0400
TZOFFSETTO:-0500
TZNAME:EST
DTSTART:20271107T060000
END:STANDARD
END:VTIMEZONE
BEGIN:VEVENT
DTSTART;TZID=America/New_York:20260317T190000
DTEND;TZID=America/New_York:20260327T210000
DTSTAMP:20260425T121851
CREATED:20260317T200005Z
LAST-MODIFIED:20260317T200007Z
UID:10004048-1773774000-1774645200@www.woodstockvt.com
SUMMARY:Gamelan Sulukala at Woodstock Town Hall
DESCRIPTION:In a rare concert performance outside of the Montpelier region\, Gamelan Sulukala will appear at Pentangle Arts Woodstock Town Hall Theatre\, Friday March 27th. This Javanese Gamelan is an orchestra of about 30 instruments ranging from huge gongs to tiny flutes\, with an array of xylophone and kettle-type instruments in between\, plus drumming. Currently it is being played by a community group of 14 members who range in age from their 20’s to their 70’s with every decade in-between represented. If you’ve never heard a Javanese gamelan\, you are in for a rare and exquisite treat! If you have\, you know this concert is not to be missed!
URL:https://www.woodstockvt.com/event/gamelan-sulukala-at-woodstock-town-hall/
LOCATION:2 The Green\, 2 The Green\, Woodstock\, VT\, 5091\, US
ATTACH;FMTTYPE=image/jpeg:https://www.woodstockvt.com/wp-content/uploads/2026/03/GS-2026a2-ledger.jpg
ORGANIZER;CN="PentangleArts":MAILTO:info@pentanglearts.org
END:VEVENT
BEGIN:VEVENT
DTSTART;TZID=America/New_York:20260325T180000
DTEND;TZID=America/New_York:20260325T210000
DTSTAMP:20260425T121851
CREATED:20251010T173746Z
LAST-MODIFIED:20251119T153631Z
UID:10003587-1774461600-1774472400@www.woodstockvt.com
SUMMARY:Name That Fish Stew! Cooking Class
DESCRIPTION:Learn skills to clean and combine fish\,  shellfish\, and various vegetables for a delicious tasting New England seafood stew—and with variation also known as French bouillabaisse or Italian cioppino. \nAt the ready is fresh North Atlantic seafood to augment the sourcing when we can of local vegetables.  \nYou’ll also learn to make the spicy garlic accompaniment known in France as rouille which you’ll spread on toasted slices of a French baguette.  \nLater you’ll soak it up in the exceptional saffron broth and weather depending\, we’ll light a fire or you can dine outdoors. \nBYOB and EAT WHAT YOU MAKE! \nA two-person minimum is preferred\, but contact us as we may have other singles on a waitlist. \nThis experience repeats regularly on most Wednesday evenings (plus on Bastille Day\, July 14!) If you need a change of day or time\, please get in touch with us. \nSee our website OdysseyEventsVT for more lesson ideas. \nSingle or multi-location classes are also available via video conferencing. Contact us for this special programming: info@odysseyeventsvt.com
URL:https://www.woodstockvt.com/event/name-that-fish-stew-cooking-class/2026-03-25/
LOCATION:Bridgewater Corners\, Bridgewater Corners\, Bridgewater Corners\, VT\, 05035\, United States
CATEGORIES:Food Events
ATTACH;FMTTYPE=image/jpeg:https://www.woodstockvt.com/wp-content/uploads/2024/11/IMG_3602-scaled.jpeg
ORGANIZER;CN="Odyssey Events":MAILTO:info@odysseyeventsvt.com
END:VEVENT
END:VCALENDAR