BEGIN:VCALENDAR
VERSION:2.0
PRODID:-//Woodstock VT - ECPv6.15.20//NONSGML v1.0//EN
CALSCALE:GREGORIAN
METHOD:PUBLISH
X-WR-CALNAME:Woodstock VT
X-ORIGINAL-URL:https://www.woodstockvt.com
X-WR-CALDESC:Events for Woodstock VT
REFRESH-INTERVAL;VALUE=DURATION:PT1H
X-Robots-Tag:noindex
X-PUBLISHED-TTL:PT1H
BEGIN:VTIMEZONE
TZID:America/New_York
BEGIN:DAYLIGHT
TZOFFSETFROM:-0500
TZOFFSETTO:-0400
TZNAME:EDT
DTSTART:20250309T070000
END:DAYLIGHT
BEGIN:STANDARD
TZOFFSETFROM:-0400
TZOFFSETTO:-0500
TZNAME:EST
DTSTART:20251102T060000
END:STANDARD
BEGIN:DAYLIGHT
TZOFFSETFROM:-0500
TZOFFSETTO:-0400
TZNAME:EDT
DTSTART:20260308T070000
END:DAYLIGHT
BEGIN:STANDARD
TZOFFSETFROM:-0400
TZOFFSETTO:-0500
TZNAME:EST
DTSTART:20261101T060000
END:STANDARD
BEGIN:DAYLIGHT
TZOFFSETFROM:-0500
TZOFFSETTO:-0400
TZNAME:EDT
DTSTART:20270314T070000
END:DAYLIGHT
BEGIN:STANDARD
TZOFFSETFROM:-0400
TZOFFSETTO:-0500
TZNAME:EST
DTSTART:20271107T060000
END:STANDARD
END:VTIMEZONE
BEGIN:VEVENT
DTSTART;TZID=America/New_York:20260410T100000
DTEND;TZID=America/New_York:20260410T160000
DTSTAMP:20260423T091716
CREATED:20260309T164046Z
LAST-MODIFIED:20260309T164659Z
UID:10004018-1775815200-1775836800@www.woodstockvt.com
SUMMARY:Season Kickoff at Billings Farm & Museum
DESCRIPTION:Celebrate the kickoff of the 44th season with a smile! Hop on a horse-drawn wagon ride\, meet the farm’s animals\, and participate in engaging daily programs. Seasonal exhibits “Art on the Barns” and “Our Working Lands: Photography of Caleb Kenna” offer contemporary art experiences. Best of all\, enjoy a free scoop of Vermont-made ice cream (included with admission)\, making the deal even sweeter. Help usher in another season of discovery\, connection\, and farm-filled fun!
URL:https://www.woodstockvt.com/event/season-kickoff-at-billings-farm-museum/
LOCATION:Billings Farm & Museum\, 69 Old River Road\, Woodstock\, Vermont\, 05091
CATEGORIES:Family and Kids,Food Events,Seasonal Events & Holidays
ATTACH;FMTTYPE=image/jpeg:https://www.woodstockvt.com/wp-content/uploads/2026/03/IMG_2660-1-scaled.jpg
ORGANIZER;CN="Billings Farm & Museum":MAILTO:info@billingsfarm.org
END:VEVENT
BEGIN:VEVENT
DTSTART;TZID=America/New_York:20260410T100000
DTEND;TZID=America/New_York:20260410T160000
DTSTAMP:20260423T091716
CREATED:20260319T184735Z
LAST-MODIFIED:20260319T184908Z
UID:10004090-1775815200-1775836800@www.woodstockvt.com
SUMMARY:Art on the Barns
DESCRIPTION:Wander through the farm and discover a bold outdoor art exhibition installed across its historic buildings. Moving beyond traditional gallery walls\, this contemporary exhibition comes to life as the colors\, forms\, and textures interact with the ever-changing landscape. Each piece invites you to see the farm through a new lens\, offering a fresh perspective with every visit. As spring unfolds\, come see how the art interacts with new buds\, fresh blooms\, and vibrant greens.
URL:https://www.woodstockvt.com/event/art-on-the-barns-3/2026-04-10/
LOCATION:Billings Farm & Museum\, 69 Old River Road\, Woodstock\, Vermont\, 05091
CATEGORIES:Arts, Film & Culture
ATTACH;FMTTYPE=image/jpeg:https://www.woodstockvt.com/wp-content/uploads/2026/03/1mb-art-on-the-barns-USE-THIS-ONE.jpg
ORGANIZER;CN="Billings Farm & Museum":MAILTO:info@billingsfarm.org
END:VEVENT
BEGIN:VEVENT
DTSTART;TZID=America/New_York:20260410T180000
DTEND;TZID=America/New_York:20260410T210000
DTSTAMP:20260423T091716
CREATED:20251010T173749Z
LAST-MODIFIED:20251119T192406Z
UID:10003642-1775844000-1775854800@www.woodstockvt.com
SUMMARY:That's Amore! Pizza and Calzone Cooking Class
DESCRIPTION:Have fun creating your own pizzas! \nThough award-winning Chef Ted can teach you almost anything food related\, for this event he leads a hands-on pizza and calzone class. \nYou’ll learn how to: \n\nmake fresh dough\nmake shells for later use\ntreat toppings\nmake sauce\nfashion a calzone\ngrill a pizza\, weather permitting\n\nWe’ll use mostly organic and regional ingredients that come mainly from nearby Vermont farms. \n\nLength: 3 hours\nGluten-free option available with advance notice\nGood for children five years of age or older\n\nBYOB and EAT WHAT YOU MAKE! \nContact us if our scheduled classes don’t fit your schedule. This lesson generally repeats on Fridays at dinnertime. Contact us for a lunch event or for your alternative date and time. \nA two-person minimum is preferred\, but contact us as we may have other singles on a waitlist. \nYou can learn what you like when you like. Check our website OdysseyEventsVT for more lesson ideas. \nCooking classes for almost anything at any time. \nCall or email us  802-342-1513 / info@odysseyeventsvt.com
URL:https://www.woodstockvt.com/event/thats-amore-pizza-and-calzone-cooking-class/2026-04-10/
LOCATION:Bridgewater Corners\, Bridgewater Corners\, Bridgewater Corners\, VT\, 05035\, United States
CATEGORIES:Food Events
ATTACH;FMTTYPE=image/jpeg:https://www.woodstockvt.com/wp-content/uploads/2024/11/IMG_6025-scaled.jpeg
ORGANIZER;CN="Odyssey Events":MAILTO:info@odysseyeventsvt.com
END:VEVENT
END:VCALENDAR