BEGIN:VCALENDAR
VERSION:2.0
PRODID:-//Woodstock VT - ECPv6.15.20//NONSGML v1.0//EN
CALSCALE:GREGORIAN
METHOD:PUBLISH
X-WR-CALNAME:Woodstock VT
X-ORIGINAL-URL:https://www.woodstockvt.com
X-WR-CALDESC:Events for Woodstock VT
REFRESH-INTERVAL;VALUE=DURATION:PT1H
X-Robots-Tag:noindex
X-PUBLISHED-TTL:PT1H
BEGIN:VTIMEZONE
TZID:America/New_York
BEGIN:DAYLIGHT
TZOFFSETFROM:-0500
TZOFFSETTO:-0400
TZNAME:EDT
DTSTART:20250309T070000
END:DAYLIGHT
BEGIN:STANDARD
TZOFFSETFROM:-0400
TZOFFSETTO:-0500
TZNAME:EST
DTSTART:20251102T060000
END:STANDARD
BEGIN:DAYLIGHT
TZOFFSETFROM:-0500
TZOFFSETTO:-0400
TZNAME:EDT
DTSTART:20260308T070000
END:DAYLIGHT
BEGIN:STANDARD
TZOFFSETFROM:-0400
TZOFFSETTO:-0500
TZNAME:EST
DTSTART:20261101T060000
END:STANDARD
BEGIN:DAYLIGHT
TZOFFSETFROM:-0500
TZOFFSETTO:-0400
TZNAME:EDT
DTSTART:20270314T070000
END:DAYLIGHT
BEGIN:STANDARD
TZOFFSETFROM:-0400
TZOFFSETTO:-0500
TZNAME:EST
DTSTART:20271107T060000
END:STANDARD
END:VTIMEZONE
BEGIN:VEVENT
DTSTART;TZID=America/New_York:20260420T100000
DTEND;TZID=America/New_York:20260420T160000
DTSTAMP:20260420T073645
CREATED:20260319T184735Z
LAST-MODIFIED:20260319T184908Z
UID:10004097-1776679200-1776700800@www.woodstockvt.com
SUMMARY:Art on the Barns
DESCRIPTION:Wander through the farm and discover a bold outdoor art exhibition installed across its historic buildings. Moving beyond traditional gallery walls\, this contemporary exhibition comes to life as the colors\, forms\, and textures interact with the ever-changing landscape. Each piece invites you to see the farm through a new lens\, offering a fresh perspective with every visit. As spring unfolds\, come see how the art interacts with new buds\, fresh blooms\, and vibrant greens.
URL:https://www.woodstockvt.com/event/art-on-the-barns-3/2026-04-20/
LOCATION:Billings Farm & Museum\, 69 Old River Road\, Woodstock\, Vermont\, 05091
CATEGORIES:Arts, Film & Culture
ATTACH;FMTTYPE=image/jpeg:https://www.woodstockvt.com/wp-content/uploads/2026/03/1mb-art-on-the-barns-USE-THIS-ONE.jpg
ORGANIZER;CN="Billings Farm & Museum":MAILTO:info@billingsfarm.org
END:VEVENT
END:VCALENDAR