BEGIN:VCALENDAR
VERSION:2.0
PRODID:-//Woodstock VT - ECPv6.15.20//NONSGML v1.0//EN
CALSCALE:GREGORIAN
METHOD:PUBLISH
X-WR-CALNAME:Woodstock VT
X-ORIGINAL-URL:https://www.woodstockvt.com
X-WR-CALDESC:Events for Woodstock VT
REFRESH-INTERVAL;VALUE=DURATION:PT1H
X-Robots-Tag:noindex
X-PUBLISHED-TTL:PT1H
BEGIN:VTIMEZONE
TZID:America/New_York
BEGIN:DAYLIGHT
TZOFFSETFROM:-0500
TZOFFSETTO:-0400
TZNAME:EDT
DTSTART:20250309T070000
END:DAYLIGHT
BEGIN:STANDARD
TZOFFSETFROM:-0400
TZOFFSETTO:-0500
TZNAME:EST
DTSTART:20251102T060000
END:STANDARD
BEGIN:DAYLIGHT
TZOFFSETFROM:-0500
TZOFFSETTO:-0400
TZNAME:EDT
DTSTART:20260308T070000
END:DAYLIGHT
BEGIN:STANDARD
TZOFFSETFROM:-0400
TZOFFSETTO:-0500
TZNAME:EST
DTSTART:20261101T060000
END:STANDARD
BEGIN:DAYLIGHT
TZOFFSETFROM:-0500
TZOFFSETTO:-0400
TZNAME:EDT
DTSTART:20270314T070000
END:DAYLIGHT
BEGIN:STANDARD
TZOFFSETFROM:-0400
TZOFFSETTO:-0500
TZNAME:EST
DTSTART:20271107T060000
END:STANDARD
END:VTIMEZONE
BEGIN:VEVENT
DTSTART;TZID=America/New_York:20260423T180000
DTEND;TZID=America/New_York:20260423T193000
DTSTAMP:20260423T054552
CREATED:20260213T204427Z
LAST-MODIFIED:20260416T172050Z
UID:10003942-1776967200-1776972600@www.woodstockvt.com
SUMMARY:Word Games! | "Library After Hours"
DESCRIPTION:Calling all crossword puzzlers\, Wordle fans\, spelling bee champs: time to relax\, mingle\, and play games! \n\n\n\nFor this April’s Library After Hours\, we will focus on word games: Bannagrams\, Boggle\, Quiddler\, Upwords\, Scrabble\, and any other favorites you might wish to add. \n\n\n\nBring friends and meet new folks. BYOB; we’ll supply munchies.
URL:https://www.woodstockvt.com/event/word-games-library-after-hours/
LOCATION:Norman Williams Public Library\, 10 The Green\, Woodstock\, VT\, 05091\, United States
CATEGORIES:Arts, Film & Culture
ATTACH;FMTTYPE=image/jpeg:https://www.woodstockvt.com/wp-content/uploads/2026/02/word-play-party-11.6.25-scaled.jpg
ORGANIZER;CN="Norman Williams Public Library":MAILTO:info@normanwilliams.org
END:VEVENT
END:VCALENDAR