BEGIN:VCALENDAR
VERSION:2.0
PRODID:-//Woodstock VT - ECPv6.15.20//NONSGML v1.0//EN
CALSCALE:GREGORIAN
METHOD:PUBLISH
X-WR-CALNAME:Woodstock VT
X-ORIGINAL-URL:https://www.woodstockvt.com
X-WR-CALDESC:Events for Woodstock VT
REFRESH-INTERVAL;VALUE=DURATION:PT1H
X-Robots-Tag:noindex
X-PUBLISHED-TTL:PT1H
BEGIN:VTIMEZONE
TZID:America/New_York
BEGIN:DAYLIGHT
TZOFFSETFROM:-0500
TZOFFSETTO:-0400
TZNAME:EDT
DTSTART:20250309T070000
END:DAYLIGHT
BEGIN:STANDARD
TZOFFSETFROM:-0400
TZOFFSETTO:-0500
TZNAME:EST
DTSTART:20251102T060000
END:STANDARD
BEGIN:DAYLIGHT
TZOFFSETFROM:-0500
TZOFFSETTO:-0400
TZNAME:EDT
DTSTART:20260308T070000
END:DAYLIGHT
BEGIN:STANDARD
TZOFFSETFROM:-0400
TZOFFSETTO:-0500
TZNAME:EST
DTSTART:20261101T060000
END:STANDARD
BEGIN:DAYLIGHT
TZOFFSETFROM:-0500
TZOFFSETTO:-0400
TZNAME:EDT
DTSTART:20270314T070000
END:DAYLIGHT
BEGIN:STANDARD
TZOFFSETFROM:-0400
TZOFFSETTO:-0500
TZNAME:EST
DTSTART:20271107T060000
END:STANDARD
END:VTIMEZONE
BEGIN:VEVENT
DTSTART;TZID=America/New_York:20260502T100000
DTEND;TZID=America/New_York:20260502T140000
DTSTAMP:20260423T091908
CREATED:20260309T170352Z
LAST-MODIFIED:20260309T170355Z
UID:10004027-1777716000-1777730400@www.woodstockvt.com
SUMMARY:Farm Friends Play Club at Billings Farm & Museum
DESCRIPTION:Join Farm Friends Play Club\, a welcoming\, hands-on\, and screen free play experience on Saturdays! Using everyday materials\, children can imagine\, create\, and play with their caregivers. It is a place to make new friends\, explore together\, and let curiosity lead the way. Designed primarily for children ages 3-9 and welcoming to siblings and family members of all ages\, Farm Friends Play Club is a drop-in program included with general admission. Advance registration is not required.
URL:https://www.woodstockvt.com/event/farm-friends-play-club-at-billings-farm-museum/2026-05-02/
LOCATION:Billings Farm & Museum\, 69 Old River Road\, Woodstock\, Vermont\, 05091
CATEGORIES:Family and Kids
ATTACH;FMTTYPE=image/jpeg:https://www.woodstockvt.com/wp-content/uploads/2026/03/1mb-Farm-Friends-Play-Club-at-Billings-Farm-Museum-copy-scaled.jpg
ORGANIZER;CN="Billings Farm & Museum":MAILTO:info@billingsfarm.org
END:VEVENT
BEGIN:VEVENT
DTSTART;TZID=America/New_York:20260502T100000
DTEND;TZID=America/New_York:20260502T160000
DTSTAMP:20260423T091908
CREATED:20260319T184735Z
LAST-MODIFIED:20260319T184908Z
UID:10004103-1777716000-1777737600@www.woodstockvt.com
SUMMARY:Art on the Barns
DESCRIPTION:Wander through the farm and discover a bold outdoor art exhibition installed across its historic buildings. Moving beyond traditional gallery walls\, this contemporary exhibition comes to life as the colors\, forms\, and textures interact with the ever-changing landscape. Each piece invites you to see the farm through a new lens\, offering a fresh perspective with every visit. As spring unfolds\, come see how the art interacts with new buds\, fresh blooms\, and vibrant greens.
URL:https://www.woodstockvt.com/event/art-on-the-barns-3/2026-05-02/
LOCATION:Billings Farm & Museum\, 69 Old River Road\, Woodstock\, Vermont\, 05091
CATEGORIES:Arts, Film & Culture
ATTACH;FMTTYPE=image/jpeg:https://www.woodstockvt.com/wp-content/uploads/2026/03/1mb-art-on-the-barns-USE-THIS-ONE.jpg
ORGANIZER;CN="Billings Farm & Museum":MAILTO:info@billingsfarm.org
END:VEVENT
BEGIN:VEVENT
DTSTART;TZID=America/New_York:20260502T103000
DTEND;TZID=America/New_York:20260502T113000
DTSTAMP:20260423T091908
CREATED:20260108T133310Z
LAST-MODIFIED:20260109T171333Z
UID:10003834-1777717800-1777721400@www.woodstockvt.com
SUMMARY:Family Story Time at NWPL
DESCRIPTION:Grandparents\, parents\, and caregivers are invited to bring their young charges to enjoy stories. We’ll select picture books about the season\, or a theme\, or perhaps feature new additions to our collection. \n\n\n\nEveryone is welcome. Discover new picture books or savor old favorites with the younger family members. \n\n\n\nOn the second Saturday of each month\, Family Story Time features community elders as guest readers. If you interested in reading to young listeners\, please contact the Children’s Librarians: 802.457.2295 x 102\, email Children@NormanWilliams.org\, or stop by to find out how to join the roster.
URL:https://www.woodstockvt.com/event/family-story-time-at-nwpl/2026-05-02/
LOCATION:Norman Williams Public Library\, 10 The Green\, Woodstock\, VT\, 05091\, United States
CATEGORIES:Family and Kids
ATTACH;FMTTYPE=image/jpeg:https://www.woodstockvt.com/wp-content/uploads/2026/01/NWPL-magic-tree-hollow-kids-scaled.jpg
ORGANIZER;CN="Norman Williams Public Library":MAILTO:info@normanwilliams.org
END:VEVENT
BEGIN:VEVENT
DTSTART;TZID=America/New_York:20260502T120000
DTEND;TZID=America/New_York:20260502T150000
DTSTAMP:20260423T091908
CREATED:20251022T144445Z
LAST-MODIFIED:20251119T153552Z
UID:10003142-1777723200-1777734000@www.woodstockvt.com
SUMMARY:Make Crêpes and More — Cooking Class!
DESCRIPTION:
URL:https://www.woodstockvt.com/event/make-crepes-and-more-cooking-class/2026-05-02/
LOCATION:VT
ATTACH;FMTTYPE=image/jpeg:https://www.woodstockvt.com/wp-content/uploads/2025/10/IMG_7703-scaled.jpeg
ORGANIZER;CN="Odyssey Events":MAILTO:info@odysseyeventsvt.com
END:VEVENT
BEGIN:VEVENT
DTSTART;TZID=America/New_York:20260502T180000
DTEND;TZID=America/New_York:20260502T210000
DTSTAMP:20260423T091908
CREATED:20251023T200206Z
LAST-MODIFIED:20251119T153613Z
UID:10003203-1777744800-1777755600@www.woodstockvt.com
SUMMARY:Rid Your Pasta Performance Complex\, Cooking Class
DESCRIPTION:Have a cooking pasta party! You’ll have fun and learn to cook at our mountain-top idyll.  \nChef Ted can teach almost anything culinary\, and at this hands-on event you’ll make a fresh tomato sauce\, learn how to roll out ravioli\, fashion tortellini\, and make a perfect fettuccine Alfredo.  \nYou’re sure to fall in love with this culinary art form learned near Bologna\, Italy’s heart of fresh pasta. \nHere we use mostly organic and regional ingredients that come mainly from nearby Vermont farms.  \nTailored to your level of expertise this is an opportunity to fine-tune your culinary skills with a personalized experience and education—so roll up your sleeves and come sizzle with us on this Vermont food odyssey. \nBYOB and EAT WHAT YOU MAKE! \nContact us if our scheduled classes don’t fit your schedule. This lesson generally repeats on Saturdays at dinnertime. Contact us for a noon event or for your alternative date and time. \nA two-person minimum is preferred\, but contact us as we may have other singles on a waitlist. \nYou can learn what you like when you like. Check our website OdysseyEventsVT for more lesson ideas. \nCooking classes for almost anything at any time. \nCall or email us  802-342-1513 / info@odysseyeventsvt.com \n 
URL:https://www.woodstockvt.com/event/rid-your-pasta-performance-complex-cooking-class/2026-05-02/
LOCATION:Bridgewater Corners\, Bridgewater Corners\, Bridgewater Corners\, VT\, 05035\, United States
CATEGORIES:Food Events
ATTACH;FMTTYPE=image/jpeg:https://www.woodstockvt.com/wp-content/uploads/2024/11/IMG_7713-scaled.jpeg
ORGANIZER;CN="Odyssey Events":MAILTO:info@odysseyeventsvt.com
END:VEVENT
END:VCALENDAR