BEGIN:VCALENDAR
VERSION:2.0
PRODID:-//Woodstock VT - ECPv6.15.20//NONSGML v1.0//EN
CALSCALE:GREGORIAN
METHOD:PUBLISH
X-WR-CALNAME:Woodstock VT
X-ORIGINAL-URL:https://www.woodstockvt.com
X-WR-CALDESC:Events for Woodstock VT
REFRESH-INTERVAL;VALUE=DURATION:PT1H
X-Robots-Tag:noindex
X-PUBLISHED-TTL:PT1H
BEGIN:VTIMEZONE
TZID:America/New_York
BEGIN:DAYLIGHT
TZOFFSETFROM:-0500
TZOFFSETTO:-0400
TZNAME:EDT
DTSTART:20250309T070000
END:DAYLIGHT
BEGIN:STANDARD
TZOFFSETFROM:-0400
TZOFFSETTO:-0500
TZNAME:EST
DTSTART:20251102T060000
END:STANDARD
BEGIN:DAYLIGHT
TZOFFSETFROM:-0500
TZOFFSETTO:-0400
TZNAME:EDT
DTSTART:20260308T070000
END:DAYLIGHT
BEGIN:STANDARD
TZOFFSETFROM:-0400
TZOFFSETTO:-0500
TZNAME:EST
DTSTART:20261101T060000
END:STANDARD
BEGIN:DAYLIGHT
TZOFFSETFROM:-0500
TZOFFSETTO:-0400
TZNAME:EDT
DTSTART:20270314T070000
END:DAYLIGHT
BEGIN:STANDARD
TZOFFSETFROM:-0400
TZOFFSETTO:-0500
TZNAME:EST
DTSTART:20271107T060000
END:STANDARD
END:VTIMEZONE
BEGIN:VEVENT
DTSTART;TZID=America/New_York:20260208T150000
DTEND;TZID=America/New_York:20260208T170000
DTSTAMP:20260422T143220
CREATED:20260116T125312Z
LAST-MODIFIED:20260116T125313Z
UID:10003882-1770562800-1770570000@www.woodstockvt.com
SUMMARY:Woodstock Town Hall Theatre Presents: Marty Supreme
DESCRIPTION:Marty Supreme is based loosely on the life of American table tennis hustler and champion Marty Reisman. Wild\, exhilarating\, and abrasive cinematic experience that’s as polarizing as its main character\, with a stunning performance from Chalamet.
URL:https://www.woodstockvt.com/event/woodstock-town-hall-theatre-presents-marty-supreme/2026-02-08/
LOCATION:Woodstock Town Hall Theatre\, Woodstock Town Hall Theatre\, 31 The Green\, Woodstock\, VT\, 5091\, US
CATEGORIES:Arts, Film & Culture
ATTACH;FMTTYPE=image/png:https://www.woodstockvt.com/wp-content/uploads/2026/01/MartySupreme.png
ORGANIZER;CN="Pentangle Arts - Woodstock Town Hall Theatre":MAILTO:info@pentanglearts.org
END:VEVENT
BEGIN:VEVENT
DTSTART;TZID=America/New_York:20260208T150000
DTEND;TZID=America/New_York:20260208T170000
DTSTAMP:20260422T143220
CREATED:20260115T160626Z
LAST-MODIFIED:20260115T160627Z
UID:10003876-1770562800-1770570000@www.woodstockvt.com
SUMMARY:Woodstock Town Hall Theatre Presents: Song Sung Blue
DESCRIPTION:Song Sung Blue is based on a true story\, two down-on-their-luck musicians (Hugh Jackman and Kate Hudson) form a joyous Neil Diamond tribute band\, proving it’s never too late to find love and follow your dreams.
URL:https://www.woodstockvt.com/event/woodstock-town-hall-theatre-presents-song-sung-blue/2026-02-08/
LOCATION:31 The Green\, Woodstock Town Hall Theatre\, 31 The Green\, Woodstock Town Hall Theatre\, Woodstock\, VT\, 05091\, United States
CATEGORIES:Arts, Film & Culture
ATTACH;FMTTYPE=image/png:https://www.woodstockvt.com/wp-content/uploads/2026/01/Picture1.png
ORGANIZER;CN="Pentangle Arts - Woodstock Town Hall Theatre":MAILTO:info@pentanglearts.org
END:VEVENT
BEGIN:VEVENT
DTSTART;TZID=America/New_York:20260207T190000
DTEND;TZID=America/New_York:20260207T213000
DTSTAMP:20260422T143220
CREATED:20260115T160626Z
LAST-MODIFIED:20260115T160627Z
UID:10003875-1770490800-1770499800@www.woodstockvt.com
SUMMARY:Woodstock Town Hall Theatre Presents: Song Sung Blue
DESCRIPTION:Song Sung Blue is based on a true story\, two down-on-their-luck musicians (Hugh Jackman and Kate Hudson) form a joyous Neil Diamond tribute band\, proving it’s never too late to find love and follow your dreams.
URL:https://www.woodstockvt.com/event/woodstock-town-hall-theatre-presents-song-sung-blue/2026-02-07/
LOCATION:31 The Green\, Woodstock Town Hall Theatre\, 31 The Green\, Woodstock Town Hall Theatre\, Woodstock\, VT\, 05091\, United States
CATEGORIES:Arts, Film & Culture
ATTACH;FMTTYPE=image/png:https://www.woodstockvt.com/wp-content/uploads/2026/01/Picture1.png
ORGANIZER;CN="Pentangle Arts - Woodstock Town Hall Theatre":MAILTO:info@pentanglearts.org
END:VEVENT
BEGIN:VEVENT
DTSTART;TZID=America/New_York:20260207T190000
DTEND;TZID=America/New_York:20260207T210000
DTSTAMP:20260422T143220
CREATED:20260116T125312Z
LAST-MODIFIED:20260116T125313Z
UID:10003881-1770490800-1770498000@www.woodstockvt.com
SUMMARY:Woodstock Town Hall Theatre Presents: Marty Supreme
DESCRIPTION:Marty Supreme is based loosely on the life of American table tennis hustler and champion Marty Reisman. Wild\, exhilarating\, and abrasive cinematic experience that’s as polarizing as its main character\, with a stunning performance from Chalamet.
URL:https://www.woodstockvt.com/event/woodstock-town-hall-theatre-presents-marty-supreme/2026-02-07/
LOCATION:Woodstock Town Hall Theatre\, Woodstock Town Hall Theatre\, 31 The Green\, Woodstock\, VT\, 5091\, US
CATEGORIES:Arts, Film & Culture
ATTACH;FMTTYPE=image/png:https://www.woodstockvt.com/wp-content/uploads/2026/01/MartySupreme.png
ORGANIZER;CN="Pentangle Arts - Woodstock Town Hall Theatre":MAILTO:info@pentanglearts.org
END:VEVENT
BEGIN:VEVENT
DTSTART;TZID=America/New_York:20260206T190000
DTEND;TZID=America/New_York:20260206T210000
DTSTAMP:20260422T143220
CREATED:20260116T125312Z
LAST-MODIFIED:20260116T125313Z
UID:10003880-1770404400-1770411600@www.woodstockvt.com
SUMMARY:Woodstock Town Hall Theatre Presents: Marty Supreme
DESCRIPTION:Marty Supreme is based loosely on the life of American table tennis hustler and champion Marty Reisman. Wild\, exhilarating\, and abrasive cinematic experience that’s as polarizing as its main character\, with a stunning performance from Chalamet.
URL:https://www.woodstockvt.com/event/woodstock-town-hall-theatre-presents-marty-supreme/2026-02-06/
LOCATION:Woodstock Town Hall Theatre\, Woodstock Town Hall Theatre\, 31 The Green\, Woodstock\, VT\, 5091\, US
CATEGORIES:Arts, Film & Culture
ATTACH;FMTTYPE=image/png:https://www.woodstockvt.com/wp-content/uploads/2026/01/MartySupreme.png
ORGANIZER;CN="Pentangle Arts - Woodstock Town Hall Theatre":MAILTO:info@pentanglearts.org
END:VEVENT
BEGIN:VEVENT
DTSTART;TZID=America/New_York:20260206T190000
DTEND;TZID=America/New_York:20260206T210000
DTSTAMP:20260422T143220
CREATED:20260115T160626Z
LAST-MODIFIED:20260115T160627Z
UID:10003874-1770404400-1770411600@www.woodstockvt.com
SUMMARY:Woodstock Town Hall Theatre Presents: Song Sung Blue
DESCRIPTION:Song Sung Blue is based on a true story\, two down-on-their-luck musicians (Hugh Jackman and Kate Hudson) form a joyous Neil Diamond tribute band\, proving it’s never too late to find love and follow your dreams.
URL:https://www.woodstockvt.com/event/woodstock-town-hall-theatre-presents-song-sung-blue/2026-02-06/
LOCATION:31 The Green\, Woodstock Town Hall Theatre\, 31 The Green\, Woodstock Town Hall Theatre\, Woodstock\, VT\, 05091\, United States
CATEGORIES:Arts, Film & Culture
ATTACH;FMTTYPE=image/png:https://www.woodstockvt.com/wp-content/uploads/2026/01/Picture1.png
ORGANIZER;CN="Pentangle Arts - Woodstock Town Hall Theatre":MAILTO:info@pentanglearts.org
END:VEVENT
BEGIN:VEVENT
DTSTART;TZID=America/New_York:20260201T150000
DTEND;TZID=America/New_York:20260201T170000
DTSTAMP:20260422T143220
CREATED:20260129T182659Z
LAST-MODIFIED:20260217T160816Z
UID:10003932-1769958000-1769965200@www.woodstockvt.com
SUMMARY:Woodstock Vermont Film Series Screening of "Seeds"
DESCRIPTION:🎥 Don’t miss “Seeds”\, winner of the U.S. Documentary Grand Jury Prize at Sundance\, on the big screen this weekend! Through poetic storytelling\, “Seeds” is a film grounded in real lives and real stakes. This intimate portrait explores the story of Black generational farmers and the challenges they face in maintaining their legacy and land ownership. The film reminds us that the choices we make now—what we protect\, what we nurture\, what we pass on—shape the future more than we realize.
URL:https://www.woodstockvt.com/event/woodstock-vermont-film-series-screening-of-seeds/2026-02-01/
LOCATION:Billings Farm & Museum\, 69 Old River Road\, Woodstock\, Vermont\, 05091
CATEGORIES:Arts, Film & Culture
ATTACH;FMTTYPE=image/jpeg:https://www.woodstockvt.com/wp-content/uploads/2026/01/website-Seeds_Key_Publicity_Still-copy.jpg
ORGANIZER;CN="Billings Farm & Museum":MAILTO:info@billingsfarm.org
END:VEVENT
BEGIN:VEVENT
DTSTART;TZID=America/New_York:20260131T150000
DTEND;TZID=America/New_York:20260131T170000
DTSTAMP:20260422T143220
CREATED:20260129T182659Z
LAST-MODIFIED:20260217T160816Z
UID:10003931-1769871600-1769878800@www.woodstockvt.com
SUMMARY:Woodstock Vermont Film Series Screening of "Seeds"
DESCRIPTION:🎥 Don’t miss “Seeds”\, winner of the U.S. Documentary Grand Jury Prize at Sundance\, on the big screen this weekend! Through poetic storytelling\, “Seeds” is a film grounded in real lives and real stakes. This intimate portrait explores the story of Black generational farmers and the challenges they face in maintaining their legacy and land ownership. The film reminds us that the choices we make now—what we protect\, what we nurture\, what we pass on—shape the future more than we realize.
URL:https://www.woodstockvt.com/event/woodstock-vermont-film-series-screening-of-seeds/2026-01-31/
LOCATION:Billings Farm & Museum\, 69 Old River Road\, Woodstock\, Vermont\, 05091
CATEGORIES:Arts, Film & Culture
ATTACH;FMTTYPE=image/jpeg:https://www.woodstockvt.com/wp-content/uploads/2026/01/website-Seeds_Key_Publicity_Still-copy.jpg
ORGANIZER;CN="Billings Farm & Museum":MAILTO:info@billingsfarm.org
END:VEVENT
END:VCALENDAR