BEGIN:VCALENDAR
VERSION:2.0
PRODID:-//Woodstock VT - ECPv6.15.20//NONSGML v1.0//EN
CALSCALE:GREGORIAN
METHOD:PUBLISH
X-WR-CALNAME:Woodstock VT
X-ORIGINAL-URL:https://www.woodstockvt.com
X-WR-CALDESC:Events for Woodstock VT
REFRESH-INTERVAL;VALUE=DURATION:PT1H
X-Robots-Tag:noindex
X-PUBLISHED-TTL:PT1H
BEGIN:VTIMEZONE
TZID:America/New_York
BEGIN:DAYLIGHT
TZOFFSETFROM:-0500
TZOFFSETTO:-0400
TZNAME:EDT
DTSTART:20250309T070000
END:DAYLIGHT
BEGIN:STANDARD
TZOFFSETFROM:-0400
TZOFFSETTO:-0500
TZNAME:EST
DTSTART:20251102T060000
END:STANDARD
BEGIN:DAYLIGHT
TZOFFSETFROM:-0500
TZOFFSETTO:-0400
TZNAME:EDT
DTSTART:20260308T070000
END:DAYLIGHT
BEGIN:STANDARD
TZOFFSETFROM:-0400
TZOFFSETTO:-0500
TZNAME:EST
DTSTART:20261101T060000
END:STANDARD
BEGIN:DAYLIGHT
TZOFFSETFROM:-0500
TZOFFSETTO:-0400
TZNAME:EDT
DTSTART:20270314T070000
END:DAYLIGHT
BEGIN:STANDARD
TZOFFSETFROM:-0400
TZOFFSETTO:-0500
TZNAME:EST
DTSTART:20271107T060000
END:STANDARD
END:VTIMEZONE
BEGIN:VEVENT
DTSTART;TZID=America/New_York:20260320T193000
DTEND;TZID=America/New_York:20260320T213000
DTSTAMP:20260425T122352
CREATED:20260304T224803Z
LAST-MODIFIED:20260304T224804Z
UID:10004001-1774035000-1774042200@www.woodstockvt.com
SUMMARY:The Art of Dining
DESCRIPTION:The Art of Dining\nBy Tina Howe\nDirected by Linda Treash \nFridays & Saturdays\, March 20-21 & 27-28 –7:30pm\nSundays\, March 22 & 29 –2pm\nThursday\, March 26 –7:30pm\n\nBarnard Town Hall\n115 North Rd.\, Barnard \nAdults – $20\nStudent/Discount – $15 \nThe Art of Dining is a front-of-house/back-of-house fine dining romp set in the 1970s! Ellen and Cal have risked everything to open The Golden Carrousel to showcase Ellen’s outstanding chef skills and Cal’s unending support for his wife’s food. Come meet the (happy?) couple along with the food-lover lovers\, food-fussy friends\, and quirky literary associates that descend on this trendy new French restaurant on the same night. Nothing brings people together like food! \n“A spicy compote of social satire\, slapstick zaniness\, sight gags and the funniest play I’ve seen in a long time.” – Village Voice
URL:https://www.woodstockvt.com/event/the-art-of-dining/2026-03-20/
LOCATION:Barnard Town Hall\, 115 North Rd.\, Barnard\, VT\, 05072\, United States
CATEGORIES:Arts, Film & Culture
ATTACH;FMTTYPE=image/jpeg:https://www.woodstockvt.com/wp-content/uploads/2026/03/AoD-Poster-full-ed.jpg
ORGANIZER;CN="BarnArts":MAILTO:info@barnarts.org
END:VEVENT
BEGIN:VEVENT
DTSTART;TZID=America/New_York:20260321T193000
DTEND;TZID=America/New_York:20260321T213000
DTSTAMP:20260425T122352
CREATED:20260304T224803Z
LAST-MODIFIED:20260304T224804Z
UID:10004002-1774121400-1774128600@www.woodstockvt.com
SUMMARY:The Art of Dining
DESCRIPTION:The Art of Dining\nBy Tina Howe\nDirected by Linda Treash \nFridays & Saturdays\, March 20-21 & 27-28 –7:30pm\nSundays\, March 22 & 29 –2pm\nThursday\, March 26 –7:30pm\n\nBarnard Town Hall\n115 North Rd.\, Barnard \nAdults – $20\nStudent/Discount – $15 \nThe Art of Dining is a front-of-house/back-of-house fine dining romp set in the 1970s! Ellen and Cal have risked everything to open The Golden Carrousel to showcase Ellen’s outstanding chef skills and Cal’s unending support for his wife’s food. Come meet the (happy?) couple along with the food-lover lovers\, food-fussy friends\, and quirky literary associates that descend on this trendy new French restaurant on the same night. Nothing brings people together like food! \n“A spicy compote of social satire\, slapstick zaniness\, sight gags and the funniest play I’ve seen in a long time.” – Village Voice
URL:https://www.woodstockvt.com/event/the-art-of-dining/2026-03-21/
LOCATION:Barnard Town Hall\, 115 North Rd.\, Barnard\, VT\, 05072\, United States
CATEGORIES:Arts, Film & Culture
ATTACH;FMTTYPE=image/jpeg:https://www.woodstockvt.com/wp-content/uploads/2026/03/AoD-Poster-full-ed.jpg
ORGANIZER;CN="BarnArts":MAILTO:info@barnarts.org
END:VEVENT
BEGIN:VEVENT
DTSTART;TZID=America/New_York:20260322T140000
DTEND;TZID=America/New_York:20260322T160000
DTSTAMP:20260425T122352
CREATED:20260304T224803Z
LAST-MODIFIED:20260304T224804Z
UID:10004003-1774188000-1774195200@www.woodstockvt.com
SUMMARY:The Art of Dining
DESCRIPTION:The Art of Dining\nBy Tina Howe\nDirected by Linda Treash \nFridays & Saturdays\, March 20-21 & 27-28 –7:30pm\nSundays\, March 22 & 29 –2pm\nThursday\, March 26 –7:30pm\n\nBarnard Town Hall\n115 North Rd.\, Barnard \nAdults – $20\nStudent/Discount – $15 \nThe Art of Dining is a front-of-house/back-of-house fine dining romp set in the 1970s! Ellen and Cal have risked everything to open The Golden Carrousel to showcase Ellen’s outstanding chef skills and Cal’s unending support for his wife’s food. Come meet the (happy?) couple along with the food-lover lovers\, food-fussy friends\, and quirky literary associates that descend on this trendy new French restaurant on the same night. Nothing brings people together like food! \n“A spicy compote of social satire\, slapstick zaniness\, sight gags and the funniest play I’ve seen in a long time.” – Village Voice
URL:https://www.woodstockvt.com/event/the-art-of-dining/2026-03-22/
LOCATION:Barnard Town Hall\, 115 North Rd.\, Barnard\, VT\, 05072\, United States
CATEGORIES:Arts, Film & Culture
ATTACH;FMTTYPE=image/jpeg:https://www.woodstockvt.com/wp-content/uploads/2026/03/AoD-Poster-full-ed.jpg
ORGANIZER;CN="BarnArts":MAILTO:info@barnarts.org
END:VEVENT
BEGIN:VEVENT
DTSTART;TZID=America/New_York:20260326T193000
DTEND;TZID=America/New_York:20260326T213000
DTSTAMP:20260425T122352
CREATED:20260304T224803Z
LAST-MODIFIED:20260304T224804Z
UID:10004004-1774553400-1774560600@www.woodstockvt.com
SUMMARY:The Art of Dining
DESCRIPTION:The Art of Dining\nBy Tina Howe\nDirected by Linda Treash \nFridays & Saturdays\, March 20-21 & 27-28 –7:30pm\nSundays\, March 22 & 29 –2pm\nThursday\, March 26 –7:30pm\n\nBarnard Town Hall\n115 North Rd.\, Barnard \nAdults – $20\nStudent/Discount – $15 \nThe Art of Dining is a front-of-house/back-of-house fine dining romp set in the 1970s! Ellen and Cal have risked everything to open The Golden Carrousel to showcase Ellen’s outstanding chef skills and Cal’s unending support for his wife’s food. Come meet the (happy?) couple along with the food-lover lovers\, food-fussy friends\, and quirky literary associates that descend on this trendy new French restaurant on the same night. Nothing brings people together like food! \n“A spicy compote of social satire\, slapstick zaniness\, sight gags and the funniest play I’ve seen in a long time.” – Village Voice
URL:https://www.woodstockvt.com/event/the-art-of-dining/2026-03-26/
LOCATION:Barnard Town Hall\, 115 North Rd.\, Barnard\, VT\, 05072\, United States
CATEGORIES:Arts, Film & Culture
ATTACH;FMTTYPE=image/jpeg:https://www.woodstockvt.com/wp-content/uploads/2026/03/AoD-Poster-full-ed.jpg
ORGANIZER;CN="BarnArts":MAILTO:info@barnarts.org
END:VEVENT
BEGIN:VEVENT
DTSTART;TZID=America/New_York:20260327T193000
DTEND;TZID=America/New_York:20260327T213000
DTSTAMP:20260425T122352
CREATED:20260304T224803Z
LAST-MODIFIED:20260304T224804Z
UID:10004005-1774639800-1774647000@www.woodstockvt.com
SUMMARY:The Art of Dining
DESCRIPTION:The Art of Dining\nBy Tina Howe\nDirected by Linda Treash \nFridays & Saturdays\, March 20-21 & 27-28 –7:30pm\nSundays\, March 22 & 29 –2pm\nThursday\, March 26 –7:30pm\n\nBarnard Town Hall\n115 North Rd.\, Barnard \nAdults – $20\nStudent/Discount – $15 \nThe Art of Dining is a front-of-house/back-of-house fine dining romp set in the 1970s! Ellen and Cal have risked everything to open The Golden Carrousel to showcase Ellen’s outstanding chef skills and Cal’s unending support for his wife’s food. Come meet the (happy?) couple along with the food-lover lovers\, food-fussy friends\, and quirky literary associates that descend on this trendy new French restaurant on the same night. Nothing brings people together like food! \n“A spicy compote of social satire\, slapstick zaniness\, sight gags and the funniest play I’ve seen in a long time.” – Village Voice
URL:https://www.woodstockvt.com/event/the-art-of-dining/2026-03-27/
LOCATION:Barnard Town Hall\, 115 North Rd.\, Barnard\, VT\, 05072\, United States
CATEGORIES:Arts, Film & Culture
ATTACH;FMTTYPE=image/jpeg:https://www.woodstockvt.com/wp-content/uploads/2026/03/AoD-Poster-full-ed.jpg
ORGANIZER;CN="BarnArts":MAILTO:info@barnarts.org
END:VEVENT
BEGIN:VEVENT
DTSTART;TZID=America/New_York:20260328T193000
DTEND;TZID=America/New_York:20260328T213000
DTSTAMP:20260425T122352
CREATED:20260304T224803Z
LAST-MODIFIED:20260304T224804Z
UID:10004006-1774726200-1774733400@www.woodstockvt.com
SUMMARY:The Art of Dining
DESCRIPTION:The Art of Dining\nBy Tina Howe\nDirected by Linda Treash \nFridays & Saturdays\, March 20-21 & 27-28 –7:30pm\nSundays\, March 22 & 29 –2pm\nThursday\, March 26 –7:30pm\n\nBarnard Town Hall\n115 North Rd.\, Barnard \nAdults – $20\nStudent/Discount – $15 \nThe Art of Dining is a front-of-house/back-of-house fine dining romp set in the 1970s! Ellen and Cal have risked everything to open The Golden Carrousel to showcase Ellen’s outstanding chef skills and Cal’s unending support for his wife’s food. Come meet the (happy?) couple along with the food-lover lovers\, food-fussy friends\, and quirky literary associates that descend on this trendy new French restaurant on the same night. Nothing brings people together like food! \n“A spicy compote of social satire\, slapstick zaniness\, sight gags and the funniest play I’ve seen in a long time.” – Village Voice
URL:https://www.woodstockvt.com/event/the-art-of-dining/2026-03-28/
LOCATION:Barnard Town Hall\, 115 North Rd.\, Barnard\, VT\, 05072\, United States
CATEGORIES:Arts, Film & Culture
ATTACH;FMTTYPE=image/jpeg:https://www.woodstockvt.com/wp-content/uploads/2026/03/AoD-Poster-full-ed.jpg
ORGANIZER;CN="BarnArts":MAILTO:info@barnarts.org
END:VEVENT
BEGIN:VEVENT
DTSTART;TZID=America/New_York:20260329T140000
DTEND;TZID=America/New_York:20260329T160000
DTSTAMP:20260425T122352
CREATED:20260304T224803Z
LAST-MODIFIED:20260304T224804Z
UID:10004007-1774792800-1774800000@www.woodstockvt.com
SUMMARY:The Art of Dining
DESCRIPTION:The Art of Dining\nBy Tina Howe\nDirected by Linda Treash \nFridays & Saturdays\, March 20-21 & 27-28 –7:30pm\nSundays\, March 22 & 29 –2pm\nThursday\, March 26 –7:30pm\n\nBarnard Town Hall\n115 North Rd.\, Barnard \nAdults – $20\nStudent/Discount – $15 \nThe Art of Dining is a front-of-house/back-of-house fine dining romp set in the 1970s! Ellen and Cal have risked everything to open The Golden Carrousel to showcase Ellen’s outstanding chef skills and Cal’s unending support for his wife’s food. Come meet the (happy?) couple along with the food-lover lovers\, food-fussy friends\, and quirky literary associates that descend on this trendy new French restaurant on the same night. Nothing brings people together like food! \n“A spicy compote of social satire\, slapstick zaniness\, sight gags and the funniest play I’ve seen in a long time.” – Village Voice
URL:https://www.woodstockvt.com/event/the-art-of-dining/2026-03-29/
LOCATION:Barnard Town Hall\, 115 North Rd.\, Barnard\, VT\, 05072\, United States
CATEGORIES:Arts, Film & Culture
ATTACH;FMTTYPE=image/jpeg:https://www.woodstockvt.com/wp-content/uploads/2026/03/AoD-Poster-full-ed.jpg
ORGANIZER;CN="BarnArts":MAILTO:info@barnarts.org
END:VEVENT
END:VCALENDAR