BEGIN:VCALENDAR
VERSION:2.0
PRODID:-//Woodstock VT - ECPv6.15.20//NONSGML v1.0//EN
CALSCALE:GREGORIAN
METHOD:PUBLISH
X-ORIGINAL-URL:https://www.woodstockvt.com
X-WR-CALDESC:Events for Woodstock VT
REFRESH-INTERVAL;VALUE=DURATION:PT1H
X-Robots-Tag:noindex
X-PUBLISHED-TTL:PT1H
BEGIN:VTIMEZONE
TZID:America/New_York
BEGIN:DAYLIGHT
TZOFFSETFROM:-0500
TZOFFSETTO:-0400
TZNAME:EDT
DTSTART:20240310T070000
END:DAYLIGHT
BEGIN:STANDARD
TZOFFSETFROM:-0400
TZOFFSETTO:-0500
TZNAME:EST
DTSTART:20241103T060000
END:STANDARD
BEGIN:DAYLIGHT
TZOFFSETFROM:-0500
TZOFFSETTO:-0400
TZNAME:EDT
DTSTART:20250309T070000
END:DAYLIGHT
BEGIN:STANDARD
TZOFFSETFROM:-0400
TZOFFSETTO:-0500
TZNAME:EST
DTSTART:20251102T060000
END:STANDARD
BEGIN:DAYLIGHT
TZOFFSETFROM:-0500
TZOFFSETTO:-0400
TZNAME:EDT
DTSTART:20260308T070000
END:DAYLIGHT
BEGIN:STANDARD
TZOFFSETFROM:-0400
TZOFFSETTO:-0500
TZNAME:EST
DTSTART:20261101T060000
END:STANDARD
END:VTIMEZONE
BEGIN:VEVENT
DTSTART;TZID=America/New_York:20251025T190000
DTEND;TZID=America/New_York:20251025T203000
DTSTAMP:20260424T170400
CREATED:20251114T211858Z
LAST-MODIFIED:20251115T002915Z
UID:10002852-1761418800-1761424200@www.woodstockvt.com
SUMMARY:Sameer Gupta
DESCRIPTION:BarnArts welcomes Sameer Gupta\, North Indian musician and educator\, to the Upper Valley Oct. 20-25 as the Fall Global Music Residency Artist. Celebrate his week of school workshops at his public performance with friends Arun Ramamurthy (violin) and Ben Tyree (guitar) Saturday\, October 25 at 7pm at North Chapel UU (7 Church St.\, Woodstock). Tickets are “you choose” sliding scale – $5-20 and can be purchased online or at the door. 
URL:https://www.woodstockvt.com/event/sameer-gupta/
LOCATION:7 Church St.\, 7 Church St.\, Woodstock\, VT\, 5091\, US
END:VEVENT
END:VCALENDAR